Workbook

Sheet AÇIKLAMA
B2: HAZIRLAYAN: YASİN ENGİN (İnş.Yük.Müh)
B6: www.betonvecimento.com
B8: yasin.engin@gmail.com
B11: SADECE SARI KUTULARA VERİ GİRİNİZ

Sheet YAPI DENETİM (TS 500)
D3: C30/37 | E3: 28 GÜNLÜK BASINÇ DAYANIMI (MPa) | Q3: =AVERAGE(E5:E7) -> 37 | R3: =AVERAGE(F5:F7) -> 32.666667 | S3: =AVERAGE(G5:G7) -> 35.333333 | T3: =AVERAGE(H5:H7) -> 34.5 | U3: =AVERAGE(I5:I7) -> #DIV/0! | V3: =AVERAGE(N5:N7) -> #DIV/0! | W3: =AVERAGE(O5:O7) -> #DIV/0! | X3: =AVERAGE(P5:P7) -> #DIV/0! | Y3: =AVERAGE(Q5:Q7) -> #DIV/0! | Z3: =AVERAGE(R5:R7) -> #DIV/0!
E4: DENEY NO 1 | F4: DENEY NO 2 | G4: DENEY NO 3 | H4: DENEY NO 4 | I4: DENEY NO 5 | J4: DENEY NO 6 | K4: DENEY NO 7 | L4: DENEY NO 8 | M4: DENEY NO 9 | N4: DENEY NO 10 | Q4: =0.15*Q3 -> 5.55 | R4: =0.15*R3 -> 4.9 | S4: =0.15*S3 -> 5.3 | T4: =0.15*T3 -> 5.175 | U4: =0.15*U3 -> #DIV/0! | V4: =0.15*V3 -> #DIV/0! | W4: =0.15*W3 -> #DIV/0! | X4: =0.15*X3 -> #DIV/0! | ... Z4: =0.15*Z3 -> #DIV/0!
D5: 1 | E5: 35 | F5: 37 | G5: 39 | H5: 33 | Q5: =IF(E5="","",IF(ABS(Q3-E5)/Q3>0.15,"-","ok")) -> ok | R5: =IF(F5="","",IF(ABS(R3-F5)/R3>0.15,"-","ok")) -> ok | S5: =IF(G5="","",IF(ABS(S3-G5)/S3>0.15,"-","ok")) -> ok | T5: =IF(H5="","",IF(ABS(T3-H5)/T3>0.15,"-","ok")) -> ok | U5: =IF(I5="","",IF(ABS(U3-I5)/U3>0.15,"-","ok")) | V5: =IF(J5="","",IF(ABS(V3-J5)/V3>0.15,"-","ok")) | W5: =IF(K5="","",IF(ABS(W3-K5)/W3>0.15,"-","ok")) | X5: =IF(L5="","",IF(ABS(X3-L5)/X3>0.15,"-","ok")) | ... Z5: =IF(N5="","",IF(ABS(Z3-N5)/Z3>0.15,"-","ok"))
D6: 2 | E6: 37 | F6: 30 | G6: 30 | H6: 36 | Q6: =IF(E6="","",IF(ABS(Q3-E6)/Q3>0.15,"-","ok")) -> ok | R6: =IF(F6="","",IF(ABS(R3-F6)/R3>0.15,"-","ok")) -> ok | S6: =IF(G6="","",IF(ABS(S3-G6)/S3>0.15,"-","ok")) -> - | T6: =IF(H6="","",IF(ABS(T3-H6)/T3>0.15,"-","ok")) -> ok | U6: =IF(I6="","",IF(ABS(U3-I6)/U3>0.15,"-","ok")) | V6: =IF(J6="","",IF(ABS(V3-J6)/V3>0.15,"-","ok")) | W6: =IF(K6="","",IF(ABS(W3-K6)/W3>0.15,"-","ok")) | X6: =IF(L6="","",IF(ABS(X3-L6)/X3>0.15,"-","ok")) | ... Z6: =IF(N6="","",IF(ABS(Z3-N6)/Z3>0.15,"-","ok"))
D7: 3 | E7: 39 | F7: 31 | G7: 37 | Q7: =IF(E7="","",IF(ABS(Q3-E7)/Q3>0.15,"-","ok")) -> ok | R7: =IF(F7="","",IF(ABS(R3-F7)/R3>0.15,"-","ok")) -> ok | S7: =IF(G7="","",IF(ABS(S3-G7)/S3>0.15,"-","ok")) -> ok | T7: =IF(H7="","",IF(ABS(T3-H7)/T3>0.15,"-","ok")) | U7: =IF(I7="","",IF(ABS(U3-I7)/U3>0.15,"-","ok")) | V7: =IF(J7="","",IF(ABS(V3-J7)/V3>0.15,"-","ok")) | W7: =IF(K7="","",IF(ABS(W3-K7)/W3>0.15,"-","ok")) | X7: =IF(L7="","",IF(ABS(X3-L7)/X3>0.15,"-","ok")) | ... Z7: =IF(N7="","",IF(ABS(Z3-N7)/Z3>0.15,"-","ok"))
D8: fci | E8: =IF(ISERROR(AVERAGE(E5:E7)),"",(AVERAGE(E5:E7))) -> 37 | F8: =IF(ISERROR(AVERAGE(F5:F7)),"",(AVERAGE(F5:F7))) -> 32.666667 | G8: =IF(ISERROR(AVERAGE(G5:G7)),"",(AVERAGE(G5:G7))) -> 35.333333 | H8: =IF(ISERROR(AVERAGE(H5:H7)),"",(AVERAGE(H5:H7))) -> 34.5 | I8: =IF(ISERROR(AVERAGE(I5:I7)),"",(AVERAGE(I5:I7))) | J8: =IF(ISERROR(AVERAGE(J5:J7)),"",(AVERAGE(J5:J7))) | K8: =IF(ISERROR(AVERAGE(K5:K7)),"",(AVERAGE(K5:K7))) | L8: =IF(ISERROR(AVERAGE(L5:L7)),"",(AVERAGE(L5:L7))) | ... N8: =IF(ISERROR(AVERAGE(N5:N7)),"",(AVERAGE(N5:N7))) | Q8: =IF(OR(Q5="-",Q6="-",Q7="-"),"red","kabul") -> kabul | R8: =IF(OR(R5="-",R6="-",R7="-"),"red","kabul") -> kabul | S8: =IF(OR(S5="-",S6="-",S7="-"),"red","kabul") -> red | T8: =IF(OR(T5="-",T6="-",T7="-"),"red","kabul") -> kabul | U8: =IF(OR(U5="-",U6="-",U7="-"),"red","kabul") -> kabul | V8: =IF(OR(V5="-",V6="-",V7="-"),"red","kabul") -> kabul | W8: =IF(OR(W5="-",W6="-",W7="-"),"red","kabul") -> kabul | X8: =IF(OR(X5="-",X6="-",X7="-"),"red","kabul") -> kabul | ... Z8: =IF(OR(Z5="-",Z6="-",Z7="-"),"red","kabul") -> kabul
E9: =IF(E5="","",Q10) -> kabul | F9: =IF(F5="","",R10) -> kabul | G9: =IF(G5="","",S10) -> red | H9: =IF(H5="","",T10) -> kabul | I9: =IF(I5="","",U10) | J9: =IF(J5="","",V10) | K9: =IF(K5="","",W10) | L9: =IF(L5="","",X10) | ... N9: =IF(N5="","",Z10) | Q9: =COUNT(E5:E7) -> 3 | R9: =COUNT(F5:F7) -> 3 | S9: =COUNT(G5:G7) -> 3 | T9: =COUNT(H5:H7) -> 2 | U9: =COUNT(I5:I7) -> 0 | V9: =COUNT(J5:J7) -> 0 | W9: =COUNT(K5:K7) -> 0 | X9: =COUNT(L5:L7) -> 0 | ... Z9: =COUNT(N5:N7) -> 0
Q10: =IF(AND(Q8="kabul",OR(Q9=2,Q9=3)),"kabul","red") -> kabul | R10: =IF(AND(R8="kabul",OR(R9=2,R9=3)),"kabul","red") -> kabul | S10: =IF(AND(S8="kabul",OR(S9=2,S9=3)),"kabul","red") -> red | T10: =IF(AND(T8="kabul",OR(T9=2,T9=3)),"kabul","red") -> kabul | U10: =IF(AND(U8="kabul",OR(U9=2,U9=3)),"kabul","red") -> red | V10: =IF(AND(V8="kabul",OR(V9=2,V9=3)),"kabul","red") -> red | W10: =IF(AND(W8="kabul",OR(W9=2,W9=3)),"kabul","red") -> red | X10: =IF(AND(X8="kabul",OR(X9=2,X9=3)),"kabul","red") -> red | ... Z10: =IF(AND(Z8="kabul",OR(Z9=2,Z9=3)),"kabul","red") -> red
C11: TS EN 206'YA GÖRE BETON UYGUNLUK DEĞERLENDİRMESİ | G11: DENEY NO | H11: 1. Kriter | I11: 2. Kriter
D12: n (deney sayısı) | E12: =COUNT(E5:N5) -> 4 | G12: DENEY NO 1 | H12: =IF(E5="","",IFERROR(IF(Q12="UYGULANMAZ","UYGULANMAZ",IF(E14>=Q12,"UYGUN","UYGUN DEĞİL")),"")) -> UYGUN DEĞİL | I12: =IF(AA12="red","",IFERROR(IF(P12="","",IFERROR(IF(P12>=R12,"UYGUN","UYGUN DEĞİL"),"")),"")) -> UYGUN | K12: SADECE SARI KUTULARA VERİ GİRİNİZ | P12: =IF($E$15=Sheet4!$A$17,E8*0.95,E8) -> 37 | Q12: =IF(OR($E$12=2,$E$12=3,$E$12=4),$E$13+1,IF(OR($E$12=5,$E$12=6),$E$13+2,"UYGULANMAZ")) -> 38 | R12: =$E$13-4 -> 33 | AA12: =E9 -> kabul
D13: fck (MPa) | E13: =IFERROR(IF(E15=Sheet4!A15,LOOKUP(D3,Sheet4!A4:A11,Sheet4!B4:B11),LOOKUP(D3,Sheet4!A4:A11,Sheet4!C4:C11)),"") -> 37 | G13: DENEY NO 2 | I13: =IF(AA13="red","",IFERROR(IF(P13="","",IFERROR(IF(P13>=R13,"UYGUN","UYGUN DEĞİL"),"")),"")) -> UYGUN DEĞİL | P13: =IF($E$15=Sheet4!$A$17,F8*0.95,F8) -> 32.666667 | Q13: =IF(OR($E$12=2,$E$12=3,$E$12=4),$E$13+1,IF(OR($E$12=5,$E$12=6),$E$13+2,"UYGULANMAZ")) -> 38 | R13: =$E$13-4 -> 33 | AA13: =F9 -> kabul
D14: fcm (MPa) | E14: =IFERROR(AVERAGE(E8:N8),"") -> 34.875 | G14: DENEY NO 3 | I14: =IF(AA14="red","",IFERROR(IF(P14="","",IFERROR(IF(P14>=R14,"UYGUN","UYGUN DEĞİL"),"")),"")) | P14: =IF($E$15=Sheet4!$A$17,G8*0.95,G8) -> 35.333333 | Q14: =IF(OR($E$12=2,$E$12=3,$E$12=4),$E$13+1,IF(OR($E$12=5,$E$12=6),$E$13+2,"UYGULANMAZ")) -> 38 | R14: =$E$13-4 -> 33 | AA14: =G9 -> red
D15: Numune şekli | E15: 150 mm'lik küp | F15: =Sheet4!L4 | G15: DENEY NO 4 | I15: =IF(AA15="red","",IFERROR(IF(P15="","",IFERROR(IF(P15>=R15,"UYGUN","UYGUN DEĞİL"),"")),"")) -> UYGUN | P15: =IF($E$15=Sheet4!$A$17,H8*0.95,H8) -> 34.5 | Q15: =IF(OR($E$12=2,$E$12=3,$E$12=4),$E$13+1,IF(OR($E$12=5,$E$12=6),$E$13+2,"UYGULANMAZ")) -> 38 | R15: =$E$13-4 -> 33 | AA15: =H9 -> kabul
D16: Numune alınan beton miktarı (m3) | E16: 120 | G16: DENEY NO 5 | I16: =IF(AA16="red","",IFERROR(IF(P16="","",IFERROR(IF(P16>=R16,"UYGUN","UYGUN DEĞİL"),"")),"")) | P16: =IF($E$15=Sheet4!$A$17,I8*0.95,I8) | Q16: =IF(OR($E$12=2,$E$12=3,$E$12=4),$E$13+1,IF(OR($E$12=5,$E$12=6),$E$13+2,"UYGULANMAZ")) -> 38 | R16: =$E$13-4 -> 33 | AA16: =I9
G17: DENEY NO 6 | I17: =IF(AA17="red","",IFERROR(IF(P17="","",IFERROR(IF(P17>=R17,"UYGUN","UYGUN DEĞİL"),"")),"")) | P17: =IF($E$15=Sheet4!$A$17,J8*0.95,J8) | Q17: =IF(OR($E$12=2,$E$12=3,$E$12=4),$E$13+1,IF(OR($E$12=5,$E$12=6),$E$13+2,"UYGULANMAZ")) -> 38 | R17: =$E$13-4 -> 33 | AA17: =J9
D18: Alınması gereken numune adedi | E18: =Sheet4!H4 -> 4 | F18: =IF(E5="","",IF(E18=E12,"Uygun",IF(E12<E18,"az numune",""))) -> Uygun | G18: DENEY NO 7 | I18: =IF(AA18="red","",IFERROR(IF(P18="","",IFERROR(IF(P18>=R18,"UYGUN","UYGUN DEĞİL"),"")),"")) | P18: =IF($E$15=Sheet4!$A$17,K8*0.95,K8) | Q18: =IF(OR($E$12=2,$E$12=3,$E$12=4),$E$13+1,IF(OR($E$12=5,$E$12=6),$E$13+2,"UYGULANMAZ")) -> 38 | R18: =$E$13-4 -> 33 | AA18: =K9
G19: DENEY NO 8 | I19: =IF(AA19="red","",IFERROR(IF(P19="","",IFERROR(IF(P19>=R19,"UYGUN","UYGUN DEĞİL"),"")),"")) | P19: =IF($E$15=Sheet4!$A$17,L8*0.95,L8) | Q19: =IF(OR($E$12=2,$E$12=3,$E$12=4),$E$13+1,IF(OR($E$12=5,$E$12=6),$E$13+2,"UYGULANMAZ")) -> 38 | R19: =$E$13-4 -> 33 | AA19: =L9
D20: KRİTERLER | G20: DENEY NO 9 | I20: =IF(AA20="red","",IFERROR(IF(P20="","",IFERROR(IF(P20>=R20,"UYGUN","UYGUN DEĞİL"),"")),"")) | P20: =IF($E$15=Sheet4!$A$17,M8*0.95,M8) | Q20: =IF(OR($E$12=2,$E$12=3,$E$12=4),$E$13+1,IF(OR($E$12=5,$E$12=6),$E$13+2,"UYGULANMAZ")) -> 38 | R20: =$E$13-4 -> 33 | AA20: =M9
D21: 1. Kriter | E21: 2. Kriter | G21: DENEY NO 10 | I21: =IF(AA21="red","",IFERROR(IF(P21="","",IFERROR(IF(P21>=R21,"UYGUN","UYGUN DEĞİL"),"")),"")) | P21: =IF($E$15=Sheet4!$A$17,N8*0.95,N8) | Q21: =IF(OR($E$12=2,$E$12=3,$E$12=4),$E$13+1,IF(OR($E$12=5,$E$12=6),$E$13+2,"UYGULANMAZ")) -> 38 | R21: =$E$13-4 -> 33 | AA21: =N9
C22: n= 1 | D22: uygulanmaz | E22: fci ≥fck | G22: SONUÇ | H22: =H12 -> UYGUN DEĞİL | I22: =IF(E5="","",IF(D3=Sheet4!A3,"",IF(OR(I12="UYGUN DEĞİL",I13="UYGUN DEĞİL",I14="UYGUN DEĞİL",I15="UYGUN DEĞİL",I16="UYGUN DEĞİL",I17="UYGUN DEĞİL",I18="UYGUN DEĞİL",I19="UYGUN DEĞİL",I20="UYGUN DEĞİL",I21="UYGUN DEĞİL"),"UYGUN DEĞİL","UYGUN"))) -> UYGUN DEĞİL | P22: =N8
C23: n=2-4 | D23: fcm ≥ fck + 1 | E23: fci ≥fck - 4 | H23: =IF(E5="","",IF(D3=Sheet4!A3,"",IF(AND(H22="UYGUN",I22="UYGUN"),"UYGUN","UYGUN DEĞİL"))) -> UYGUN DEĞİL
C24: n=5-6 | D24: fcm ≥ fck + 2 | E24: fci ≥fck - 4

Sheet PİYASA GÖZETİM&DENETİM (EN 206)
D3: C30/37 | E3: 28 GÜNLÜK BASINÇ DAYANIMI (MPa) | P3: =AVERAGE(E5:E7) -> 39 | Q3: =AVERAGE(F5:F7) -> 40 | R3: =AVERAGE(G5:G7) -> 36 | S3: =AVERAGE(H5:H7) -> 37 | T3: =AVERAGE(I5:I7) -> #DIV/0! | U3: =AVERAGE(J5:J7) -> #DIV/0!
E4: DENEY NO 1 | F4: DENEY NO 2 | G4: DENEY NO 3 | H4: DENEY NO 4 | I4: DENEY NO 5 | J4: DENEY NO 6 | P4: =0.15*P3 -> 5.85 | Q4: =0.15*Q3 -> 6 | R4: =0.15*R3 -> 5.4 | S4: =0.15*S3 -> 5.55 | T4: =0.15*T3 -> #DIV/0! | U4: =0.15*U3 -> #DIV/0!
D5: 1 | E5: 38 | F5: 39 | G5: 35 | H5: 36 | P5: =IF(E5="","",IF(ABS(P3-E5)/P3>0.15,"-","ok")) -> ok | Q5: =IF(F5="","",IF(ABS(Q3-F5)/Q3>0.15,"-","ok")) -> ok | R5: =IF(G5="","",IF(ABS(R3-G5)/R3>0.15,"-","ok")) -> ok | S5: =IF(H5="","",IF(ABS(S3-H5)/S3>0.15,"-","ok")) -> ok | T5: =IF(I5="","",IF(ABS(T3-I5)/T3>0.15,"-","ok")) | U5: =IF(J5="","",IF(ABS(U3-J5)/U3>0.15,"-","ok"))
D6: 2 | E6: 40 | F6: 41 | G6: 37 | H6: 45 | P6: =IF(E6="","",IF(ABS(P3-E6)/P3>0.15,"-","ok")) -> ok | Q6: =IF(F6="","",IF(ABS(Q3-F6)/Q3>0.15,"-","ok")) -> ok | R6: =IF(G6="","",IF(ABS(R3-G6)/R3>0.15,"-","ok")) -> ok | S6: =IF(H6="","",IF(ABS(S3-H6)/S3>0.15,"-","ok")) -> - | T6: =IF(I6="","",IF(ABS(T3-I6)/T3>0.15,"-","ok")) | U6: =IF(J6="","",IF(ABS(U3-J6)/U3>0.15,"-","ok"))
D7: 3 | H7: 30 | P7: =IF(E7="","",IF(ABS($P$3-E7)/$P$3>0.15,"-","ok")) | Q7: =IF(F7="","",IF(ABS($P$3-F7)/$P$3>0.15,"-","ok")) | R7: =IF(G7="","",IF(ABS($P$3-G7)/$P$3>0.15,"-","ok")) | S7: =IF(H7="","",IF(ABS($P$3-H7)/$P$3>0.15,"-","ok")) -> - | T7: =IF(I7="","",IF(ABS($P$3-I7)/$P$3>0.15,"-","ok")) | U7: =IF(J7="","",IF(ABS($P$3-J7)/$P$3>0.15,"-","ok"))
D8: fci | E8: =IF(ISERROR(AVERAGE(E5:E7)),"",(AVERAGE(E5:E7))) -> 39 | F8: =IF(ISERROR(AVERAGE(F5:F7)),"",(AVERAGE(F5:F7))) -> 40 | G8: =IF(ISERROR(AVERAGE(G5:G7)),"",(AVERAGE(G5:G7))) -> 36 | H8: =IF(ISERROR(AVERAGE(H5:H7)),"",(AVERAGE(H5:H7))) -> 37 | I8: =IF(ISERROR(AVERAGE(I5:I7)),"",(AVERAGE(I5:I7))) | J8: =IF(ISERROR(AVERAGE(J5:J7)),"",(AVERAGE(J5:J7))) | P8: =IF(OR(P5="-",P6="-",P7="-"),"red","kabul") -> kabul | Q8: =IF(OR(Q5="-",Q6="-",Q7="-"),"red","kabul") -> kabul | R8: =IF(OR(R5="-",R6="-",R7="-"),"red","kabul") -> kabul | S8: =IF(OR(S5="-",S6="-",S7="-"),"red","kabul") -> red | T8: =IF(OR(T5="-",T6="-",T7="-"),"red","kabul") -> kabul | U8: =IF(OR(U5="-",U6="-",U7="-"),"red","kabul") -> kabul
E9: =IF(E8="","",P10) -> kabul | F9: =IF(F8="","",Q10) -> kabul | G9: =IF(G8="","",R10) -> kabul | H9: =IF(H8="","",S10) -> red | I9: =IF(I8="","",T10) | J9: =IF(J8="","",U10) | P9: =COUNT(E5:E7) -> 2 | Q9: =COUNT(F5:F7) -> 2 | R9: =COUNT(G5:G7) -> 2 | S9: =COUNT(H5:H7) -> 3 | T9: =COUNT(I5:I7) -> 0 | U9: =COUNT(J5:J7) -> 0
P10: =IF(AND(P8="kabul",OR(P9=2,P9=3)),"kabul","red") -> kabul | Q10: =IF(AND(Q8="kabul",OR(Q9=2,Q9=3)),"kabul","red") -> kabul | R10: =IF(AND(R8="kabul",OR(R9=2,R9=3)),"kabul","red") -> kabul | S10: =IF(AND(S8="kabul",OR(S9=2,S9=3)),"kabul","red") -> red | T10: =IF(AND(T8="kabul",OR(T9=2,T9=3)),"kabul","red") -> red | U10: =IF(AND(U8="kabul",OR(U9=2,U9=3)),"kabul","red") -> red
C11: TS EN 206'YA GÖRE BETON UYGUNLUK DEĞERLENDİRMESİ | G11: DENEY NO | H11: 1. Kriter | I11: 2. Kriter
D12: n (deney sayısı) | E12: =COUNT(E5:J5) -> 4 | G12: DENEY NO 1 | H12: =IF(E5="","",IFERROR(IF(P12="UYGULANMAZ","UYGULANMAZ",IF(E14>=P12,"UYGUN","UYGUN DEĞİL")),"")) -> UYGUN | I12: =IF(L12="red","",IF(O12="","",IFERROR(IF(O12>=Q12,"UYGUN","UYGUN DEĞİL"),""))) -> UYGUN | L12: =E9 -> kabul | O12: =E8 -> 39 | P12: =IF(OR($E$12=2,$E$12=3,$E$12=4),$E$13+1,IF(OR($E$12=5,$E$12=6),$E$13+2,"UYGULANMAZ")) -> 38 | Q12: =$E$13-4 -> 33
D13: fck (MPa) | E13: =IFERROR(IF(E15=Sheet4!A15,LOOKUP(D3,Sheet4!A4:A11,Sheet4!B4:B11),LOOKUP(D3,Sheet4!A4:A11,Sheet4!C4:C11)),"") -> 37 | G13: DENEY NO 2 | I13: =IF(L13="red","",IF(O13="","",IFERROR(IF(O13>=Q13,"UYGUN","UYGUN DEĞİL"),""))) -> UYGUN | L13: =F9 -> kabul | O13: =F8 -> 40 | P13: =IF(OR($E$12=2,$E$12=3,$E$12=4),$E$13+1,IF(OR($E$12=5,$E$12=6),$E$13+2,"UYGULANMAZ")) -> 38 | Q13: =$E$13-4 -> 33
D14: fcm (MPa) | E14: =IFERROR(AVERAGE(E8:J8),"") -> 38 | G14: DENEY NO 3 | I14: =IF(L14="red","",IF(O14="","",IFERROR(IF(O14>=Q14,"UYGUN","UYGUN DEĞİL"),""))) -> UYGUN | L14: =G9 -> kabul | O14: =G8 -> 36 | P14: =IF(OR($E$12=2,$E$12=3,$E$12=4),$E$13+1,IF(OR($E$12=5,$E$12=6),$E$13+2,"UYGULANMAZ")) -> 38 | Q14: =$E$13-4 -> 33
D15: Numune şekli | E15: 150 mm'lik küp | G15: DENEY NO 4 | I15: =IF(L15="red","",IF(O15="","",IFERROR(IF(O15>=Q15,"UYGUN","UYGUN DEĞİL"),""))) | L15: =H9 -> red | O15: =H8 -> 37 | P15: =IF(OR($E$12=2,$E$12=3,$E$12=4),$E$13+1,IF(OR($E$12=5,$E$12=6),$E$13+2,"UYGULANMAZ")) -> 38 | Q15: =$E$13-4 -> 33
D16: KRİTERLER | G16: DENEY NO 5 | I16: =IF(L16="red","",IF(O16="","",IFERROR(IF(O16>=Q16,"UYGUN","UYGUN DEĞİL"),""))) | L16: =I9 | O16: =I8 | P16: =IF(OR($E$12=2,$E$12=3,$E$12=4),$E$13+1,IF(OR($E$12=5,$E$12=6),$E$13+2,"UYGULANMAZ")) -> 38 | Q16: =$E$13-4 -> 33
D17: 1. Kriter | E17: 2. Kriter | G17: DENEY NO 6 | I17: =IF(L17="red","",IF(O17="","",IFERROR(IF(O17>=Q17,"UYGUN","UYGUN DEĞİL"),""))) | L17: =J9 | O17: =J8 | P17: =IF(OR($E$12=2,$E$12=3,$E$12=4),$E$13+1,IF(OR($E$12=5,$E$12=6),$E$13+2,"UYGULANMAZ")) -> 38 | Q17: =$E$13-4 -> 33
C18: n= 1 | D18: uygulanmaz | E18: fci ≥fck - 4 | G18: SONUÇ | H18: =H12 -> UYGUN | I18: =IF(E5="","",IF(D3=Sheet4!A3,"",IF(OR(I12="UYGUN DEĞİL",I13="UYGUN DEĞİL",I14="UYGUN DEĞİL",I15="UYGUN DEĞİL",I16="UYGUN DEĞİL",I17="UYGUN DEĞİL"),"UYGUN DEĞİL","UYGUN"))) -> UYGUN | O18: =J8
C19: n=2-4 | D19: fcm ≥ fck + 1 | E19: fci ≥fck - 4 | H19: =IF(E5="","",IF(D3=Sheet4!A3,"",IF(AND(H18="UYGUN",I18="UYGUN"),"UYGUN","UYGUN DEĞİL"))) -> UYGUN
C20: n≥5 | D20: fcm ≥ fck + 2 | E20: fci ≥fck - 4
B23: SADECE SARI KUTULARA VERİ GİRİNİZ

Sheet G BELGESİ (TS EN 206)
D3: C30/37 | E3: 28 GÜNLÜK BASINÇ DAYANIMI (MPa) | P3: =AVERAGE(E5:E7) -> 39 | Q3: =AVERAGE(F5:F7) -> 40 | R3: =AVERAGE(G5:G7) -> 32.5 | S3: =AVERAGE(H5:H7) -> 40.5 | T3: =AVERAGE(I5:I7) -> #DIV/0! | U3: =AVERAGE(J5:J7) -> #DIV/0!
E4: DENEY NO 1 | F4: DENEY NO 2 | G4: DENEY NO 3 | H4: DENEY NO 4 | I4: DENEY NO 5 | J4: DENEY NO 6 | P4: =0.15*P3 -> 5.85 | Q4: =0.15*Q3 -> 6 | R4: =0.15*R3 -> 4.875 | S4: =0.15*S3 -> 6.075 | T4: =0.15*T3 -> #DIV/0! | U4: =0.15*U3 -> #DIV/0!
D5: 1 | E5: 38 | F5: 39 | G5: 30 | H5: 36 | P5: =IF(E5="","",IF(ABS(P3-E5)/P3>0.15,"-","ok")) -> ok | Q5: =IF(F5="","",IF(ABS(Q3-F5)/Q3>0.15,"-","ok")) -> ok | R5: =IF(G5="","",IF(ABS(R3-G5)/R3>0.15,"-","ok")) -> ok | S5: =IF(H5="","",IF(ABS(S3-H5)/S3>0.15,"-","ok")) -> ok | T5: =IF(I5="","",IF(ABS(T3-I5)/T3>0.15,"-","ok")) | U5: =IF(J5="","",IF(ABS(U3-J5)/U3>0.15,"-","ok"))
D6: 2 | E6: 40 | F6: 41 | G6: 35 | H6: 45 | P6: =IF(E6="","",IF(ABS(P3-E6)/P3>0.15,"-","ok")) -> ok | Q6: =IF(F6="","",IF(ABS(Q3-F6)/Q3>0.15,"-","ok")) -> ok | R6: =IF(G6="","",IF(ABS(R3-G6)/R3>0.15,"-","ok")) -> ok | S6: =IF(H6="","",IF(ABS(S3-H6)/S3>0.15,"-","ok")) -> ok | T6: =IF(I6="","",IF(ABS(T3-I6)/T3>0.15,"-","ok")) | U6: =IF(J6="","",IF(ABS(U3-J6)/U3>0.15,"-","ok"))
D7: 3 | P7: =IF(E7="","",IF(ABS(P3-E7)/P3>0.15,"-","ok")) | Q7: =IF(F7="","",IF(ABS(Q3-F7)/Q3>0.15,"-","ok")) | R7: =IF(G7="","",IF(ABS(R3-G7)/R3>0.15,"-","ok")) | S7: =IF(H7="","",IF(ABS(S3-H7)/S3>0.15,"-","ok")) | T7: =IF(I7="","",IF(ABS(T3-I7)/T3>0.15,"-","ok")) | U7: =IF(J7="","",IF(ABS(U3-J7)/U3>0.15,"-","ok"))
D8: fci | E8: =IF(ISERROR(AVERAGE(E5:E7)),"",(AVERAGE(E5:E7))) -> 39 | F8: =IF(ISERROR(AVERAGE(F5:F7)),"",(AVERAGE(F5:F7))) -> 40 | G8: =IF(ISERROR(AVERAGE(G5:G7)),"",(AVERAGE(G5:G7))) -> 32.5 | H8: =IF(ISERROR(AVERAGE(H5:H7)),"",(AVERAGE(H5:H7))) -> 40.5 | I8: =IF(ISERROR(AVERAGE(I5:I7)),"",(AVERAGE(I5:I7))) | J8: =IF(ISERROR(AVERAGE(J5:J7)),"",(AVERAGE(J5:J7))) | P8: =IF(OR(P5="-",P6="-",P7="-"),"red","kabul") -> kabul | Q8: =IF(OR(Q5="-",Q6="-",Q7="-"),"red","kabul") -> kabul | R8: =IF(OR(R5="-",R6="-",R7="-"),"red","kabul") -> kabul | S8: =IF(OR(S5="-",S6="-",S7="-"),"red","kabul") -> kabul | T8: =IF(OR(T5="-",T6="-",T7="-"),"red","kabul") -> kabul | U8: =IF(OR(U5="-",U6="-",U7="-"),"red","kabul") -> kabul
E9: =IF(E8="","",P10) -> kabul | F9: =IF(F8="","",Q10) -> kabul | G9: =IF(G8="","",R10) -> kabul | H9: =IF(H8="","",S10) -> kabul | I9: =IF(I8="","",T10) | J9: =IF(J8="","",U10) | P9: =COUNT(E5:E7) -> 2 | Q9: =COUNT(F5:F7) -> 2 | R9: =COUNT(G5:G7) -> 2 | S9: =COUNT(H5:H7) -> 2 | T9: =COUNT(I5:I7) -> 0 | U9: =COUNT(J5:J7) -> 0
P10: =IF(AND(P8="kabul",OR(P9=2,P9=3)),"kabul","red") -> kabul | Q10: =IF(AND(Q8="kabul",OR(Q9=2,Q9=3)),"kabul","red") -> kabul | R10: =IF(AND(R8="kabul",OR(R9=2,R9=3)),"kabul","red") -> kabul | S10: =IF(AND(S8="kabul",OR(S9=2,S9=3)),"kabul","red") -> kabul | T10: =IF(AND(T8="kabul",OR(T9=2,T9=3)),"kabul","red") -> red | U10: =IF(AND(U8="kabul",OR(U9=2,U9=3)),"kabul","red") -> red
C11: TS EN 206'YA GÖRE BETON UYGUNLUK DEĞERLENDİRMESİ | G11: DENEY NO | H11: 1. Kriter | I11: 2. Kriter
D12: n (deney sayısı) | E12: =COUNT(E5:J5) -> 4 | G12: DENEY NO 1 | H12: =IF(E5="","",IFERROR(IF(P12="UYGULANMAZ","UYGULANMAZ",IF(E14>=P12,"UYGUN","UYGUN DEĞİL")),"")) -> UYGUN | I12: =IF(L12="red","",IF(O12="","",IFERROR(IF(O12>=Q12,"UYGUN","UYGUN DEĞİL"),""))) -> UYGUN | L12: =E9 -> kabul | O12: =E8 -> 39 | P12: =IF(OR($E$12=2,$E$12=3,$E$12=4),$E$13+1,IF(OR($E$12=5,$E$12=6),$E$13+2,"UYGULANMAZ")) -> 38 | Q12: =$E$13-4 -> 33
D13: fck (MPa) | E13: =IFERROR(IF(E15=Sheet4!A15,LOOKUP(D3,Sheet4!A4:A11,Sheet4!B4:B11),LOOKUP(D3,Sheet4!A4:A11,Sheet4!C4:C11)),"") -> 37 | G13: DENEY NO 2 | I13: =IF(L13="red","",IF(O13="","",IFERROR(IF(O13>=Q13,"UYGUN","UYGUN DEĞİL"),""))) -> UYGUN | L13: =F9 -> kabul | O13: =F8 -> 40 | P13: =IF(OR($E$12=2,$E$12=3,$E$12=4),$E$13+1,IF(OR($E$12=5,$E$12=6),$E$13+2,"UYGULANMAZ")) -> 38 | Q13: =$E$13-4 -> 33
D14: fcm (MPa) | E14: =IFERROR(AVERAGE(E8:J8),"") -> 38 | G14: DENEY NO 3 | I14: =IF(L14="red","",IF(O14="","",IFERROR(IF(O14>=Q14,"UYGUN","UYGUN DEĞİL"),""))) -> UYGUN DEĞİL | L14: =G9 -> kabul | O14: =G8 -> 32.5 | P14: =IF(OR($E$12=2,$E$12=3,$E$12=4),$E$13+1,IF(OR($E$12=5,$E$12=6),$E$13+2,"UYGULANMAZ")) -> 38 | Q14: =$E$13-4 -> 33
D15: Numune şekli | E15: 150 mm'lik küp | G15: DENEY NO 4 | I15: =IF(L15="red","",IF(O15="","",IFERROR(IF(O15>=Q15,"UYGUN","UYGUN DEĞİL"),""))) -> UYGUN | L15: =H9 -> kabul | O15: =H8 -> 40.5 | P15: =IF(OR($E$12=2,$E$12=3,$E$12=4),$E$13+1,IF(OR($E$12=5,$E$12=6),$E$13+2,"UYGULANMAZ")) -> 38 | Q15: =$E$13-4 -> 33
D16: KRİTERLER | G16: DENEY NO 5 | I16: =IF(L16="red","",IF(O16="","",IFERROR(IF(O16>=Q16,"UYGUN","UYGUN DEĞİL"),""))) | L16: =I9 | O16: =I8 | P16: =IF(OR($E$12=2,$E$12=3,$E$12=4),$E$13+1,IF(OR($E$12=5,$E$12=6),$E$13+2,"UYGULANMAZ")) -> 38 | Q16: =$E$13-4 -> 33
D17: 1. Kriter | E17: 2. Kriter | G17: DENEY NO 6 | I17: =IF(L17="red","",IF(O17="","",IFERROR(IF(O17>=Q17,"UYGUN","UYGUN DEĞİL"),""))) | L17: =J9 | O17: =J8 | P17: =IF(OR($E$12=2,$E$12=3,$E$12=4),$E$13+1,IF(OR($E$12=5,$E$12=6),$E$13+2,"UYGULANMAZ")) -> 38 | Q17: =$E$13-4 -> 33
C18: n= 1 | D18: uygulanmaz | E18: fci ≥fck - 4 | G18: SONUÇ | H18: =H12 -> UYGUN | I18: =IF(E5="","",IF(D3=Sheet4!A3,"",IF(OR(I12="UYGUN DEĞİL",I13="UYGUN DEĞİL",I14="UYGUN DEĞİL",I15="UYGUN DEĞİL",I16="UYGUN DEĞİL",I17="UYGUN DEĞİL"),"UYGUN DEĞİL","UYGUN"))) -> UYGUN DEĞİL | O18: =J8
C19: n=2-4 | D19: fcm ≥ fck + 1 | E19: fci ≥fck - 4 | H19: =IF(E5="","",IF(D3=Sheet4!A3,"",IF(AND(H18="UYGUN",I18="UYGUN"),"UYGUN","UYGUN DEĞİL"))) -> UYGUN DEĞİL
C20: n=5-6 | D20: fcm ≥ fck + 2 | E20: fci ≥fck - 4
B23: SADECE SARI KUTULARA VERİ GİRİNİZ

Sheet Sheet4
A3: Beton Sınıfını Seçin
A4: C16/20 | B4: 20 | C4: 16 | E4: 0 | G4: ='YAPI DENETİM (TS 500)'!E16 -> 120 | H4: =IF(G4<E5,2,IF(AND(G4>=E5,G4<=E6),3,IF(AND(G4>E6,G4<=E7),4,IF(AND(G4>E7,G4<=E8),5,IF(AND(G4>E8,G4<=E9),6,IF(AND(G4>E9,G4<=E10),7,IF(AND(G4>E10,G4<=E11),8,IF(AND(G4>E11,G4<=E12),9,IF(AND(G4>E12,G4<=E13),10))))))))) -> 4 | I4: ='YAPI DENETİM (TS 500)'!D3 -> C30/37 | J4: =IF(OR($I$4=A4,$I$4=A5,$I$4=A6,$I$4=A7),0,1) -> 0 | K4: ='YAPI DENETİM (TS 500)'!E15 -> 150 mm'lik küp | L4: =IF(AND(J4=0,K4=A17),"Uygun değil","")
A5: C20/25 | B5: 25 | C5: 20 | E5: 25
A6: C25/30 | B6: 30 | C6: 25 | E6: 100
A7: C30/37 | B7: 37 | C7: 30 | E7: 150
A8: C35/45 | B8: 45 | C8: 35 | E8: 200
A9: C40/50 | B9: 50 | C9: 40 | E9: 250
A10: C45/55 | B10: 55 | C10: 45 | E10: 300
A11: C50/60 | B11: 60 | C11: 50 | E11: 400
E12: 500
E13: 600
A15: 150 mm'lik küp
A16: 150x300 silindir
A17: 100x200 silindir
